BEGIN:VCALENDAR
VERSION:2.0
PRODID:-//ARGE SOLAR e.V. - ECPv6.15.20//NONSGML v1.0//EN
CALSCALE:GREGORIAN
METHOD:PUBLISH
X-WR-CALNAME:ARGE SOLAR e.V.
X-ORIGINAL-URL:https://www.argesolar-saar.de
X-WR-CALDESC:Veranstaltungen für ARGE SOLAR e.V.
REFRESH-INTERVAL;VALUE=DURATION:PT1H
X-Robots-Tag:noindex
X-PUBLISHED-TTL:PT1H
BEGIN:VTIMEZONE
TZID:Europe/Berlin
BEGIN:DAYLIGHT
TZOFFSETFROM:+0100
TZOFFSETTO:+0200
TZNAME:CEST
DTSTART:20220327T010000
END:DAYLIGHT
BEGIN:STANDARD
TZOFFSETFROM:+0200
TZOFFSETTO:+0100
TZNAME:CET
DTSTART:20221030T010000
END:STANDARD
BEGIN:DAYLIGHT
TZOFFSETFROM:+0100
TZOFFSETTO:+0200
TZNAME:CEST
DTSTART:20230326T010000
END:DAYLIGHT
BEGIN:STANDARD
TZOFFSETFROM:+0200
TZOFFSETTO:+0100
TZNAME:CET
DTSTART:20231029T010000
END:STANDARD
BEGIN:DAYLIGHT
TZOFFSETFROM:+0100
TZOFFSETTO:+0200
TZNAME:CEST
DTSTART:20240331T010000
END:DAYLIGHT
BEGIN:STANDARD
TZOFFSETFROM:+0200
TZOFFSETTO:+0100
TZNAME:CET
DTSTART:20241027T010000
END:STANDARD
END:VTIMEZONE
BEGIN:VEVENT
DTSTART;TZID=Europe/Berlin:20230928T100000
DTEND;TZID=Europe/Berlin:20230928T113000
DTSTAMP:20260425T001552
CREATED:20230919T111725Z
LAST-MODIFIED:20230919T111725Z
UID:10878-1695895200-1695900600@www.argesolar-saar.de
SUMMARY:"ARGE SOLAR Exklusiv" - Klimatechnik\, Kühlung in privaten Gebäuden
DESCRIPTION:Vorstellung des Bereichs der Klimatechnik im Hinblick auf die Kühlung von privaten Gebäuden. \nIm Anschluss besteht die Möglichkeit in einer Fragerunde noch offene Fragen mit dem Referenten Hans-Gerd Eisenbarth zu diskutieren. \n  \nDie Teilnahme ist kostenfrei\, eine Anmeldung ist erforderlich. \nRegistrieren Sie sich hier direkt online für die Veranstaltung.
URL:https://www.argesolar-saar.de/va/arge-solar-exklusiv-klimatechnik-kuehlung-in-privaten-gebaeuden-2/
LOCATION:Online
CATEGORIES:ARGE Solar Exklusiv
ATTACH;FMTTYPE=image/jpeg:https://www.argesolar-saar.de/wp-content/uploads/2023/07/AdobeStock_483606901.jpeg
ORGANIZER;CN="ARGE SOLAR e.V.":MAILTO:veranstaltung@argesolar-saar.de
END:VEVENT
END:VCALENDAR