BEGIN:VCALENDAR
VERSION:2.0
PRODID:-//ARGE SOLAR e.V. - ECPv6.15.20//NONSGML v1.0//EN
CALSCALE:GREGORIAN
METHOD:PUBLISH
X-ORIGINAL-URL:https://www.argesolar-saar.de
X-WR-CALDESC:Veranstaltungen für ARGE SOLAR e.V.
REFRESH-INTERVAL;VALUE=DURATION:PT1H
X-Robots-Tag:noindex
X-PUBLISHED-TTL:PT1H
BEGIN:VTIMEZONE
TZID:Europe/Berlin
BEGIN:DAYLIGHT
TZOFFSETFROM:+0100
TZOFFSETTO:+0200
TZNAME:CEST
DTSTART:20220327T010000
END:DAYLIGHT
BEGIN:STANDARD
TZOFFSETFROM:+0200
TZOFFSETTO:+0100
TZNAME:CET
DTSTART:20221030T010000
END:STANDARD
BEGIN:DAYLIGHT
TZOFFSETFROM:+0100
TZOFFSETTO:+0200
TZNAME:CEST
DTSTART:20230326T010000
END:DAYLIGHT
BEGIN:STANDARD
TZOFFSETFROM:+0200
TZOFFSETTO:+0100
TZNAME:CET
DTSTART:20231029T010000
END:STANDARD
BEGIN:DAYLIGHT
TZOFFSETFROM:+0100
TZOFFSETTO:+0200
TZNAME:CEST
DTSTART:20240331T010000
END:DAYLIGHT
BEGIN:STANDARD
TZOFFSETFROM:+0200
TZOFFSETTO:+0100
TZNAME:CET
DTSTART:20241027T010000
END:STANDARD
END:VTIMEZONE
BEGIN:VEVENT
DTSTART;TZID=Europe/Berlin:20230926T150000
DTEND;TZID=Europe/Berlin:20230926T160000
DTSTAMP:20260424T225217
CREATED:20230724T114053Z
LAST-MODIFIED:20230915T125654Z
UID:10395-1695740400-1695744000@www.argesolar-saar.de
SUMMARY:Online-Sprechstunde: Energiesparen\, Heizung\, Solar & Förderung
DESCRIPTION:Um die vielfältigen Beratungsanfragen abfangen und beantworten zu können\, bieten wir als ARGE SOLAR e.V. Online-Sprechstunden über die Plattform Webex an.\nIn den einstündigen Veranstaltungen wird Ralph Schmidt unser Geschäftsführer und Vorsitzender der Gebäudeenergieberater Saarland e.V. Fragen rund um die Themen Energiesparen\, Heizung\, Solar & Förderung beantworten. \nDie Beratungsangebote sind unverbindlich und kostenfrei. \n  \nRegistrieren Sie sich direkt online für die Veranstaltung. \n  \nEinen Flyer zur Veranstaltung finden Sie HIER
URL:https://www.argesolar-saar.de/va/online-sprechstunde-energiesparen-heizung-solar-foerderung-7/
LOCATION:Online
ATTACH;FMTTYPE=image/png:https://www.argesolar-saar.de/wp-content/uploads/2023/07/Bild18.png
ORGANIZER;CN="ARGE SOLAR e.V.":MAILTO:veranstaltung@argesolar-saar.de
END:VEVENT
END:VCALENDAR